BEGIN:VCALENDAR
VERSION:2.0
PRODID:-//Contratero//ES
CALSCALE:GREGORIAN
METHOD:PUBLISH
BEGIN:VEVENT
UID:CON 03/2021@contratero.es
DTSTAMP:20260423T184455Z
DTSTART:20210608T235959
DTEND:20210609T005959
SUMMARY:Cierre: Servicio de medición de conectividad de telefonía 
DESCRIPTION:Servicio de medición de conectividad de telefonía móvil por la modalidad de DRIVE TEST para la Sociedad Gestión de Infraestructuras Públicas de Telecomunicaciones del Principado de Asturias\, S.A.\\n\\nOrganismo: Presidencia y Vicepresidencia Mancomunada de Gestión de Infraestructuras Públicas de Telecomunicaciones del Principado de Asturias\, S.A.\\n\\nVer en Contratero: https://contratero.es/contracts/CON 03/2021
URL:https://contratero.es/contracts/CON 03/2021
STATUS:CONFIRMED
BEGIN:VALARM
TRIGGER:-P1D
ACTION:DISPLAY
DESCRIPTION:Recordatorio: Servicio de medición de conect
END:VALARM
END:VEVENT
END:VCALENDAR